BEGIN:VCALENDAR
VERSION:2.0
PRODID:SchoolNow
CALSCALE:GREGORIAN
BEGIN:VEVENT
UID:2e2856b8-dd8f-11ef-b994-0e956362e35d
DTSTAMP:20250128T154729Z
SUMMARY:Boys Junior Varsity Basketball v. Rome Free Academy
LOCATION:PHS Main Gym
URL;VALUE=URI:https://www.uticaschools.org/departments/athletics/calendar/7
 386236/boys-junior-varsity-basketball-v-rome-free-academy
DTSTART:20250124T223000Z
DTEND:20250125T013000Z
END:VEVENT
END:VCALENDAR
