BEGIN:VCALENDAR
VERSION:2.0
PRODID:SchoolNow
CALSCALE:GREGORIAN
BEGIN:VEVENT
UID:2e285de8-dd8f-11ef-9c7d-0e956362e35d
DTSTAMP:20250128T154729Z
SUMMARY:Girls Junior Varsity Basketball v. Camden
LOCATION:PHS Main Gym
URL;VALUE=URI:https://www.uticaschools.org/departments/athletics/calendar/7
 386244/girls-junior-varsity-basketball-v-camden
DTSTART:20250211T223000Z
DTEND:20250212T014500Z
END:VEVENT
END:VCALENDAR
