BEGIN:VCALENDAR
VERSION:2.0
PRODID:SchoolNow
CALSCALE:GREGORIAN
BEGIN:VEVENT
UID:2f53af1a-dd8f-11ef-b7e2-0e956362e35d
DTSTAMP:20250128T154731Z
SUMMARY:Clinton Cudos Swim Team @ PHS Swimming Pool (5:30 PM)
LOCATION:PHS Swimming Pool
URL;VALUE=URI:https://www.uticaschools.org/departments/athletics/calendar/7
 386549/clinton-cudos-swim-team-phs-swimming-pool-5-30-pm
DTSTART:20250225T223000Z
DTEND:20250226T003000Z
END:VEVENT
END:VCALENDAR
