BEGIN:VCALENDAR
VERSION:2.0
PRODID:SchoolNow
CALSCALE:GREGORIAN
BEGIN:VEVENT
UID:30299fd0-dd8f-11ef-b370-0e956362e35d
DTSTAMP:20250128T154732Z
SUMMARY:Boys Varsity Basketball @ Camden
LOCATION:Camden High School Main Gym
URL;VALUE=URI:https://www.uticaschools.org/departments/athletics/calendar/7
 386756/boys-varsity-basketball-camden
DTSTART:20250211T233000Z
DTEND:20250212T003000Z
END:VEVENT
END:VCALENDAR
