BEGIN:VCALENDAR
VERSION:2.0
PRODID:SchoolNow
CALSCALE:GREGORIAN
BEGIN:VEVENT
UID:31129f0a-dd8f-11ef-86ef-0e956362e35d
DTSTAMP:20250128T154734Z
SUMMARY:Boys Varsity Volleyball @ Vernon-Verona-Sherrill
LOCATION:VVS MS Gym
URL;VALUE=URI:https://www.uticaschools.org/departments/athletics/calendar/7
 386982/boys-varsity-volleyball-vernon-verona-sherrill
DTSTART:20250219T000000Z
DTEND:20250219T013000Z
END:VEVENT
END:VCALENDAR
