BEGIN:VCALENDAR
VERSION:2.0
PRODID:SchoolNow
CALSCALE:GREGORIAN
BEGIN:VEVENT
UID:317b8d12-dd8f-11ef-a777-0e956362e35d
DTSTAMP:20250128T154735Z
SUMMARY:Girls Varsity Soccer @ Cicero-North Syracuse
LOCATION:CNS HS-Bragman Stadium
URL;VALUE=URI:https://www.uticaschools.org/departments/athletics/calendar/7
 387122/girls-varsity-soccer-cicero-north-syracuse
DTSTART:20241024T230000Z
DTEND:20241025T004500Z
END:VEVENT
END:VCALENDAR
