BEGIN:VCALENDAR
VERSION:2.0
PRODID:SchoolNow
CALSCALE:GREGORIAN
BEGIN:VEVENT
UID:32c50824-dd8f-11ef-b6c0-0e956362e35d
DTSTAMP:20250128T154737Z
SUMMARY:(G) V Winter Track - Practice (10:00 AM)
LOCATION:PHS Indoor Track (Practice Facility)
URL;VALUE=URI:https://www.uticaschools.org/departments/athletics/calendar/7
 387344/g-v-winter-track-practice-10-00-am
DTSTART:20241129T150000Z
DTEND:20241129T170000Z
END:VEVENT
END:VCALENDAR
