BEGIN:VCALENDAR
VERSION:2.0
PRODID:SchoolNow
CALSCALE:GREGORIAN
BEGIN:VEVENT
UID:3529f5ac-dd8f-11ef-92fb-0e956362e35d
DTSTAMP:20250128T154741Z
SUMMARY:(G) V Basketball - Practice (5:00 PM)
LOCATION:PHS AUX Gym (Volleyball gym)\, PHS AUX Gym (Volleyball gym)
URL;VALUE=URI:https://www.uticaschools.org/departments/athletics/calendar/7
 387928/g-v-basketball-practice-5-00-pm
DTSTART:20241126T220000Z
DTEND:20241127T003000Z
END:VEVENT
END:VCALENDAR
