BEGIN:VCALENDAR
VERSION:2.0
PRODID:SchoolNow
CALSCALE:GREGORIAN
BEGIN:VEVENT
UID:2479d2cc-1f1a-11f1-84b8-0a58a9feac02
DTSTAMP:20260330T195547Z
SUMMARY:PS: Chemistry REGENTS EXAM
URL;VALUE=URI:https://www.uticaschools.org/departments/guidance-counseling-
 services/calendar/8915519/ps-chemistry-regents-exam
DTSTART:20260609T160000Z
DTEND:20260609T180000Z
END:VEVENT
END:VCALENDAR
