BEGIN:VCALENDAR
VERSION:2.0
PRODID:SchoolNow
CALSCALE:GREGORIAN
BEGIN:VEVENT
UID:fc0e34f2-217d-11f1-9f5e-0a58a9feac02
DTSTAMP:20260330T195547Z
SUMMARY:AP Calculus Exam
URL;VALUE=URI:https://www.uticaschools.org/departments/guidance-counseling-
 services/calendar/8923031/ap-calculus-exam
DTSTART:20260511T120000Z
DTEND:20260511T150000Z
END:VEVENT
END:VCALENDAR
